BEGIN:VCALENDAR
VERSION:2.0
PRODID:-//ExpressionEngine Easy iCalendar plugin//NONSGML v2.0.0//EN
X-WR-TIMEZONE:America/Chicago
X-WR-CALNAME:Upcoming Auctions
BEGIN:VEVENT
UID:155210
DTSTAMP:20261107T130000
DTSTART:20261107T130000
DTEND:20261107T140000
SUMMARY:2026 | NKR Harvest Moon Sale
LOCATION:2850 Pembroke Rd\, Hopkinsville\, KY 42240\, US
DESCRIPTION:2026 Harvest Moon Kiko Sale
URL:https://www.toplivestock.com/auctions/detail/bw155210
SEQUENCE:1
END:VEVENT
END:VCALENDAR