BEGIN:VCALENDAR
VERSION:2.0
PRODID:-//ExpressionEngine Easy iCalendar plugin//NONSGML v2.0.0//EN
X-WR-TIMEZONE:America/Chicago
X-WR-CALNAME:Upcoming Auctions
BEGIN:VEVENT
UID:155331
DTSTAMP:20261010T130000
DTSTART:20261010T130000
DTEND:20261010T140000
SUMMARY:2026 | Southeastern Classic Sale
LOCATION:2390 Gainesboro Grade\, Cookeville\, TN 38501\, US
DESCRIPTION:2026 | Southeastern Classic Boer Goat Sale
URL:https://www.toplivestock.com/auctions/detail/bw155331
SEQUENCE:1
END:VEVENT
END:VCALENDAR